BEGIN:VCALENDAR
VERSION:2.0
PRODID:-//Energy Smart Farming - ECPv5.1.2//NONSGML v1.0//EN
CALSCALE:GREGORIAN
METHOD:PUBLISH
X-WR-CALNAME:Energy Smart Farming
X-ORIGINAL-URL:https://extensionaus.com.au/energysmartfarming
X-WR-CALDESC:Events for Energy Smart Farming
BEGIN:VTIMEZONE
TZID:Australia/Sydney
BEGIN:STANDARD
TZOFFSETFROM:+1100
TZOFFSETTO:+1000
TZNAME:AEST
DTSTART:20210403T160000
END:STANDARD
BEGIN:DAYLIGHT
TZOFFSETFROM:+1000
TZOFFSETTO:+1100
TZNAME:AEDT
DTSTART:20211002T160000
END:DAYLIGHT
END:VTIMEZONE
BEGIN:VEVENT
DTSTART;VALUE=DATE:20210519
DTEND;VALUE=DATE:20210520
DTSTAMP:20210223T101934
CREATED:20201223T030317Z
LAST-MODIFIED:20201223T030317Z
UID:4020-1621382400-1621468799@extensionaus.com.au
SUMMARY:National Renewables in Agriculture Conference
DESCRIPTION:\nDate: Wednesday 19 May 2021 \nTime: 9.00am – 5.00pm \nLocation: Dubbo Regional Theatre and Convention Centre \nAbout the event: On-farm renewables are a valuable opportunity for farmers to cut costs and emissions. This inaugural event brings together farmers\, agriculture and energy consultants\, peak bodies and Government representatives to share stories of on-farm renewables\, their business case and discuss what’s driving the transformation of energy use in agriculture. \n\nThe Expo offers attendees the chance to speak to credible renewable energy suppliers about what’s on offer. \nFor more information and to register\, visit the National Renewables in Agriculture Conference Website \nRenewables In Agriculture Conference \n\n
URL:https://extensionaus.com.au/energysmartfarming/event/national-renewables-in-agriculture-conference/
END:VEVENT
END:VCALENDAR